BEGIN:VCALENDAR
VERSION:2.0
PRODID:-//hacksw/handcal//NONSGML v1.0//EN
BEGIN:VEVENT
DTSTAMP:20250711T160000Z
DTSTART:20250711T160000Z
DTEND:20250711T190000Z
LOCATION:Bürgerhaus Kronshagen, Kopperpahler Allee 69, Kronshagen, 24119, Deutschland
SUMMARY:Talk & Wine: „Putin. Trump. Was macht Europa?“ mit Niclas Herbst, MdEP
END:VEVENT
END:VCALENDAR
