BEGIN:VCALENDAR
VERSION:2.0
PRODID:-//hacksw/handcal//NONSGML v1.0//EN
BEGIN:VEVENT
DTSTAMP:20200117T180000Z
DTSTART:20200117T180000Z
DTEND:20200117T213000Z
LOCATION:Bürgerhaus Kronshagen, Kopperpahler Allee 69, Kronshagen, 24119, Deutschland
SUMMARY:Neujahrs-Grünkohlessen 2020 mit anschließendem Bingospielen
END:VEVENT
END:VCALENDAR
